BEGIN:VCALENDAR
VERSION:2.0
PRODID:-//eventon.com NONSGML v1.0//EN
CALSCALE:GREGORIAN
METHOD:PUBLISH
BEGIN:VEVENT
UID:69ebe21c045b2
DTSTAMP:20260424T213524
DTSTART:20260712
DTEND:20260713
TZID:UTC
LOCATION:
SUMMARY:Michigan Equine Challenge Association
DESCRIPTION:\nhttps://americanhorsemenchallenge.com/events/michigan-equine-challenge-association-36/
URL:https://americanhorsemenchallenge.com/events/michigan-equine-challenge-association-36/
END:VEVENT
END:VCALENDAR