BEGIN:VCALENDAR
VERSION:2.0
PRODID:-//eventon.com NONSGML v1.0//EN
CALSCALE:GREGORIAN
METHOD:PUBLISH
BEGIN:VEVENT
UID:69ecd3073aecd
DTSTAMP:20260425T144319
DTSTART:20260711
DTEND:20260712
TZID:UTC
LOCATION:
SUMMARY:Michigan Equine Challenge Association
DESCRIPTION:\nhttps://americanhorsemenchallenge.com/events/michigan-equine-challenge-association-35/
URL:https://americanhorsemenchallenge.com/events/michigan-equine-challenge-association-35/
END:VEVENT
END:VCALENDAR