BEGIN:VCALENDAR
VERSION:2.0
PRODID:-//eventon.com NONSGML v1.0//EN
CALSCALE:GREGORIAN
METHOD:PUBLISH
BEGIN:VEVENT
UID:69ecd28ef3654
DTSTAMP:20260425T144118
DTSTART:20260607
DTEND:20260608
TZID:UTC
LOCATION:
SUMMARY:Michigan Equine Challenge Association
DESCRIPTION:\nhttps://americanhorsemenchallenge.com/events/michigan-equine-challenge-association-34/
URL:https://americanhorsemenchallenge.com/events/michigan-equine-challenge-association-34/
END:VEVENT
END:VCALENDAR