BEGIN:VCALENDAR
VERSION:2.0
PRODID:-//eventon.com NONSGML v1.0//EN
CALSCALE:GREGORIAN
METHOD:PUBLISH
BEGIN:VEVENT
UID:69ebe22e7ee74
DTSTAMP:20260424T213542
DTSTART:20260606
DTEND:20260607
TZID:UTC
LOCATION:
SUMMARY:Michigan Equine Challenge Association
DESCRIPTION:\nhttps://americanhorsemenchallenge.com/events/michigan-equine-challenge-association-33/
URL:https://americanhorsemenchallenge.com/events/michigan-equine-challenge-association-33/
END:VEVENT
END:VCALENDAR