BEGIN:VCALENDAR
VERSION:2.0
PRODID:-//eventon.com NONSGML v1.0//EN
CALSCALE:GREGORIAN
METHOD:PUBLISH
BEGIN:VEVENT
UID:69ecd2a981bba
DTSTAMP:20260425T144145
DTSTART:20260509
DTEND:20260510
TZID:UTC
LOCATION:
SUMMARY:Michigan Equine Challenge Association
DESCRIPTION:\nhttps://americanhorsemenchallenge.com/events/michigan-equine-challenge-association-31/
URL:https://americanhorsemenchallenge.com/events/michigan-equine-challenge-association-31/
END:VEVENT
END:VCALENDAR