BEGIN:VCALENDAR
VERSION:2.0
PRODID:-//eventon.com NONSGML v1.0//EN
CALSCALE:GREGORIAN
METHOD:PUBLISH
BEGIN:VEVENT
UID:69ecd26c5e1ac
DTSTAMP:20260425T144044
DTSTART:20260919
DTEND:20260920
TZID:UTC
LOCATION:
SUMMARY:All Round Equine Challenge
DESCRIPTION:\nhttps://americanhorsemenchallenge.com/events/all-round-equine-challenge-3/
URL:https://americanhorsemenchallenge.com/events/all-round-equine-challenge-3/
END:VEVENT
END:VCALENDAR