BEGIN:VCALENDAR
VERSION:2.0
PRODID:-//eventon.com NONSGML v1.0//EN
CALSCALE:GREGORIAN
METHOD:PUBLISH
BEGIN:VEVENT
UID:69ecd28f9435c
DTSTAMP:20260425T144119
DTSTART:20260613
DTEND:20260614
TZID:UTC
LOCATION:
SUMMARY:All Round Equine Challenge
DESCRIPTION:\nhttps://americanhorsemenchallenge.com/events/all-round-equine-challenge-2/
URL:https://americanhorsemenchallenge.com/events/all-round-equine-challenge-2/
END:VEVENT
END:VCALENDAR