BEGIN:VCALENDAR
VERSION:2.0
PRODID:-//eventon.com NONSGML v1.0//EN
CALSCALE:GREGORIAN
METHOD:PUBLISH
BEGIN:VEVENT
UID:69ecd2af406e8
DTSTAMP:20260425T144151
DTSTART:20260920
DTEND:20260921
TZID:UTC
LOCATION:
SUMMARY:Horsemen of Arkansas Challenge
DESCRIPTION:\nhttps://americanhorsemenchallenge.com/events/horsemen-of-arkansas-challenge-76/
URL:https://americanhorsemenchallenge.com/events/horsemen-of-arkansas-challenge-76/
END:VEVENT
END:VCALENDAR