BEGIN:VCALENDAR
VERSION:2.0
PRODID:-//eventon.com NONSGML v1.0//EN
CALSCALE:GREGORIAN
METHOD:PUBLISH
BEGIN:VEVENT
UID:69ecd26c5e7e2
DTSTAMP:20260425T144044
DTSTART:20260919
DTEND:20260920
TZID:UTC
LOCATION:
SUMMARY:Horsemen of Arkansas Challenge
DESCRIPTION:\nhttps://americanhorsemenchallenge.com/events/horsemen-of-arkansas-challenge-75/
URL:https://americanhorsemenchallenge.com/events/horsemen-of-arkansas-challenge-75/
END:VEVENT
END:VCALENDAR