BEGIN:VCALENDAR
VERSION:2.0
PRODID:-//eventon.com NONSGML v1.0//EN
CALSCALE:GREGORIAN
METHOD:PUBLISH
BEGIN:VEVENT
UID:69ebe270f1c89
DTSTAMP:20260424T213648
DTSTART:20260802
DTEND:20260803
TZID:UTC
LOCATION:
SUMMARY:Horsemen of Arkansas Challenge
DESCRIPTION:\nhttps://americanhorsemenchallenge.com/events/horsemen-of-arkansas-challenge-74/
URL:https://americanhorsemenchallenge.com/events/horsemen-of-arkansas-challenge-74/
END:VEVENT
END:VCALENDAR