BEGIN:VCALENDAR
VERSION:2.0
PRODID:-//eventon.com NONSGML v1.0//EN
CALSCALE:GREGORIAN
METHOD:PUBLISH
BEGIN:VEVENT
UID:69ebe2254efbf
DTSTAMP:20260424T213533
DTSTART:20260719
DTEND:20260720
TZID:UTC
LOCATION:
SUMMARY:Horsemen of Arkansas Challenge
DESCRIPTION:\nhttps://americanhorsemenchallenge.com/events/horsemen-of-arkansas-challenge-72/
URL:https://americanhorsemenchallenge.com/events/horsemen-of-arkansas-challenge-72/
END:VEVENT
END:VCALENDAR