BEGIN:VCALENDAR
VERSION:2.0
PRODID:-//eventon.com NONSGML v1.0//EN
CALSCALE:GREGORIAN
METHOD:PUBLISH
BEGIN:VEVENT
UID:69ecd30740ae1
DTSTAMP:20260425T144319
DTSTART:20260718
DTEND:20260719
TZID:UTC
LOCATION:
SUMMARY:Horsemen of Arkansas Challenge
DESCRIPTION:\nhttps://americanhorsemenchallenge.com/events/horsemen-of-arkansas-challenge-71/
URL:https://americanhorsemenchallenge.com/events/horsemen-of-arkansas-challenge-71/
END:VEVENT
END:VCALENDAR