BEGIN:VCALENDAR
VERSION:2.0
PRODID:-//eventon.com NONSGML v1.0//EN
CALSCALE:GREGORIAN
METHOD:PUBLISH
BEGIN:VEVENT
UID:69ecd30d46061
DTSTAMP:20260425T144325
DTSTART:20260621
DTEND:20260622
TZID:UTC
LOCATION:
SUMMARY:Horsemen of Arkansas Challenge
DESCRIPTION:\nhttps://americanhorsemenchallenge.com/events/horsemen-of-arkansas-challenge-70/
URL:https://americanhorsemenchallenge.com/events/horsemen-of-arkansas-challenge-70/
END:VEVENT
END:VCALENDAR