BEGIN:VCALENDAR
VERSION:2.0
PRODID:-//eventon.com NONSGML v1.0//EN
CALSCALE:GREGORIAN
METHOD:PUBLISH
BEGIN:VEVENT
UID:69ecd359f2b4a
DTSTAMP:20260425T144441
DTSTART:20260531
DTEND:20260601
TZID:UTC
LOCATION:
SUMMARY:Horsemen of Arkansas Challenge
DESCRIPTION:\nhttps://americanhorsemenchallenge.com/events/horsemen-of-arkansas-challenge-68/
URL:https://americanhorsemenchallenge.com/events/horsemen-of-arkansas-challenge-68/
END:VEVENT
END:VCALENDAR