BEGIN:VCALENDAR
VERSION:2.0
PRODID:-//eventon.com NONSGML v1.0//EN
CALSCALE:GREGORIAN
METHOD:PUBLISH
BEGIN:VEVENT
UID:69ebe22b05608
DTSTAMP:20260424T213539
DTSTART:20260530
DTEND:20260621
TZID:UTC
LOCATION:
SUMMARY:Horsemen of Arkansas Challenge
DESCRIPTION:\nhttps://americanhorsemenchallenge.com/events/horsemen-of-arkansas-challenge-67/
URL:https://americanhorsemenchallenge.com/events/horsemen-of-arkansas-challenge-67/
END:VEVENT
END:VCALENDAR