BEGIN:VCALENDAR
VERSION:2.0
PRODID:-//eventon.com NONSGML v1.0//EN
CALSCALE:GREGORIAN
METHOD:PUBLISH
BEGIN:VEVENT
UID:69ecd2526b881
DTSTAMP:20260425T144018
DTSTART:20260927
DTEND:20260928
TZID:UTC
LOCATION:
SUMMARY:Triangle A Arena Challenge
DESCRIPTION:\nhttps://americanhorsemenchallenge.com/events/triangle-a-arena-challenge-68/
URL:https://americanhorsemenchallenge.com/events/triangle-a-arena-challenge-68/
END:VEVENT
END:VCALENDAR