BEGIN:VCALENDAR
VERSION:2.0
PRODID:-//eventon.com NONSGML v1.0//EN
CALSCALE:GREGORIAN
METHOD:PUBLISH
BEGIN:VEVENT
UID:69ecd23c10483
DTSTAMP:20260425T143956
DTSTART:20260926
DTEND:20260927
TZID:UTC
LOCATION:
SUMMARY:Triangle A Arena Challenge
DESCRIPTION:\nhttps://americanhorsemenchallenge.com/events/triangle-a-arena-challenge-66/
URL:https://americanhorsemenchallenge.com/events/triangle-a-arena-challenge-66/
END:VEVENT
END:VCALENDAR