BEGIN:VCALENDAR
VERSION:2.0
PRODID:-//eventon.com NONSGML v1.0//EN
CALSCALE:GREGORIAN
METHOD:PUBLISH
BEGIN:VEVENT
UID:69ecd3b81905b
DTSTAMP:20260425T144616
DTSTART:20260802
DTEND:20260803
TZID:UTC
LOCATION:
SUMMARY:Triangle A Arena Challenge
DESCRIPTION:\nhttps://americanhorsemenchallenge.com/events/triangle-a-arena-challenge-65/
URL:https://americanhorsemenchallenge.com/events/triangle-a-arena-challenge-65/
END:VEVENT
END:VCALENDAR