BEGIN:VCALENDAR
VERSION:2.0
PRODID:-//eventon.com NONSGML v1.0//EN
CALSCALE:GREGORIAN
METHOD:PUBLISH
BEGIN:VEVENT
UID:69ecd23c2e16e
DTSTAMP:20260425T143956
DTSTART:20260801
DTEND:20260802
TZID:UTC
LOCATION:
SUMMARY:Triangle A Arena Challenge
DESCRIPTION:\nhttps://americanhorsemenchallenge.com/events/triangle-a-arena-challenge-64/
URL:https://americanhorsemenchallenge.com/events/triangle-a-arena-challenge-64/
END:VEVENT
END:VCALENDAR