BEGIN:VCALENDAR
VERSION:2.0
PRODID:-//eventon.com NONSGML v1.0//EN
CALSCALE:GREGORIAN
METHOD:PUBLISH
BEGIN:VEVENT
UID:69ecd26c98a21
DTSTAMP:20260425T144044
DTSTART:20260712T162100Z
DTEND:20260712T162100Z
TZID:UTC
LOCATION:
SUMMARY:Triangle A Arena Challenge
DESCRIPTION:\nhttps://americanhorsemenchallenge.com/events/triangle-a-arena-challenge-63/
URL:https://americanhorsemenchallenge.com/events/triangle-a-arena-challenge-63/
END:VEVENT
END:VCALENDAR