BEGIN:VCALENDAR
VERSION:2.0
PRODID:-//eventon.com NONSGML v1.0//EN
CALSCALE:GREGORIAN
METHOD:PUBLISH
BEGIN:VEVENT
UID:69ecd3bebff63
DTSTAMP:20260425T144622
DTSTART:20260711
DTEND:20260712
TZID:UTC
LOCATION:
SUMMARY:Triangle A Arena Challenge
DESCRIPTION:\nhttps://americanhorsemenchallenge.com/events/triangle-a-arena-challenge-62/
URL:https://americanhorsemenchallenge.com/events/triangle-a-arena-challenge-62/
END:VEVENT
END:VCALENDAR