BEGIN:VCALENDAR
VERSION:2.0
PRODID:-//eventon.com NONSGML v1.0//EN
CALSCALE:GREGORIAN
METHOD:PUBLISH
BEGIN:VEVENT
UID:69ecd34d387e8
DTSTAMP:20260425T144429
DTSTART:20260621
DTEND:20260622
TZID:UTC
LOCATION:
SUMMARY:Triangle A Arena Challenge
DESCRIPTION:\nhttps://americanhorsemenchallenge.com/events/triangle-a-arena-challenge-61/
URL:https://americanhorsemenchallenge.com/events/triangle-a-arena-challenge-61/
END:VEVENT
END:VCALENDAR