BEGIN:VCALENDAR
VERSION:2.0
PRODID:-//eventon.com NONSGML v1.0//EN
CALSCALE:GREGORIAN
METHOD:PUBLISH
BEGIN:VEVENT
UID:69ebe26726508
DTSTAMP:20260424T213639
DTSTART:20260620
DTEND:20260621
TZID:UTC
LOCATION:
SUMMARY:Triangle A Arena Challenge
DESCRIPTION:\nhttps://americanhorsemenchallenge.com/events/triangle-a-arena-challenge-60/
URL:https://americanhorsemenchallenge.com/events/triangle-a-arena-challenge-60/
END:VEVENT
END:VCALENDAR