BEGIN:VCALENDAR
VERSION:2.0
PRODID:-//eventon.com NONSGML v1.0//EN
CALSCALE:GREGORIAN
METHOD:PUBLISH
BEGIN:VEVENT
UID:69ebe22a62689
DTSTAMP:20260424T213538
DTSTART:20260607
DTEND:20260608
TZID:UTC
LOCATION:
SUMMARY:Triangle A Arena Challenge
DESCRIPTION:\nhttps://americanhorsemenchallenge.com/events/triangle-a-arena-challenge-59/
URL:https://americanhorsemenchallenge.com/events/triangle-a-arena-challenge-59/
END:VEVENT
END:VCALENDAR