BEGIN:VCALENDAR
VERSION:2.0
PRODID:-//eventon.com NONSGML v1.0//EN
CALSCALE:GREGORIAN
METHOD:PUBLISH
BEGIN:VEVENT
UID:69ecd3c473625
DTSTAMP:20260425T144628
DTSTART:20260606
DTEND:20260607
TZID:UTC
LOCATION:
SUMMARY:Triangle A Arena Challenge
DESCRIPTION:\nhttps://americanhorsemenchallenge.com/events/triangle-a-arena-challenge-58/
URL:https://americanhorsemenchallenge.com/events/triangle-a-arena-challenge-58/
END:VEVENT
END:VCALENDAR