BEGIN:VCALENDAR
VERSION:2.0
PRODID:-//eventon.com NONSGML v1.0//EN
CALSCALE:GREGORIAN
METHOD:PUBLISH
BEGIN:VEVENT
UID:69ecd4160cc61
DTSTAMP:20260425T144750
DTSTART:20260525
DTEND:20260526
TZID:UTC
LOCATION:
SUMMARY:Triangle A Arena                                                                     Memorial Weekend Buckle Challenge
DESCRIPTION:\nhttps://americanhorsemenchallenge.com/events/triangle-a-arena-memorial-weekend-buckle-challenge-2/
URL:https://americanhorsemenchallenge.com/events/triangle-a-arena-memorial-weekend-buckle-challenge-2/
END:VEVENT
END:VCALENDAR