BEGIN:VCALENDAR
VERSION:2.0
PRODID:-//eventon.com NONSGML v1.0//EN
CALSCALE:GREGORIAN
METHOD:PUBLISH
BEGIN:VEVENT
UID:69ecd4160ae1d
DTSTAMP:20260425T144750
DTSTART:20260524
DTEND:20260525
TZID:UTC
LOCATION:
SUMMARY:Triangle A Arena                                                              Memorial Weekend Buckle Challenge
DESCRIPTION:\nhttps://americanhorsemenchallenge.com/events/triangle-a-arena-memorial-weekend-buckle-challenge/
URL:https://americanhorsemenchallenge.com/events/triangle-a-arena-memorial-weekend-buckle-challenge/
END:VEVENT
END:VCALENDAR