BEGIN:VCALENDAR
VERSION:2.0
PRODID:-//eventon.com NONSGML v1.0//EN
CALSCALE:GREGORIAN
METHOD:PUBLISH
BEGIN:VEVENT
UID:69ecd34d39a3a
DTSTAMP:20260425T144429
DTSTART:20260523
DTEND:20260524
TZID:UTC
LOCATION:
SUMMARY:Triangle A Arena                                                                 Memorial Weekend Buckle Challenge
DESCRIPTION:\nhttps://americanhorsemenchallenge.com/events/triangle-a-arena-memorial-day-buckle-challenge/
URL:https://americanhorsemenchallenge.com/events/triangle-a-arena-memorial-day-buckle-challenge/
END:VEVENT
END:VCALENDAR