BEGIN:VCALENDAR
VERSION:2.0
PRODID:-//eventon.com NONSGML v1.0//EN
CALSCALE:GREGORIAN
METHOD:PUBLISH
BEGIN:VEVENT
UID:69ecd23c9f357
DTSTAMP:20260425T143956
DTSTART:20261004
DTEND:20261005
TZID:UTC
LOCATION:
SUMMARY:Horsemen of Texas Challenge
DESCRIPTION:\nhttps://americanhorsemenchallenge.com/events/horsemen-of-texas-challenge-60/
URL:https://americanhorsemenchallenge.com/events/horsemen-of-texas-challenge-60/
END:VEVENT
END:VCALENDAR