BEGIN:VCALENDAR
VERSION:2.0
PRODID:-//eventon.com NONSGML v1.0//EN
CALSCALE:GREGORIAN
METHOD:PUBLISH
BEGIN:VEVENT
UID:69ecd3fd624a8
DTSTAMP:20260425T144725
DTSTART:20260628
DTEND:20260629
TZID:UTC
LOCATION:
SUMMARY:Horsemen of Texas Challenge
DESCRIPTION:\nhttps://americanhorsemenchallenge.com/events/horsemen-of-texas-challenge-59/
URL:https://americanhorsemenchallenge.com/events/horsemen-of-texas-challenge-59/
END:VEVENT
END:VCALENDAR