BEGIN:VCALENDAR
VERSION:2.0
PRODID:-//eventon.com NONSGML v1.0//EN
CALSCALE:GREGORIAN
METHOD:PUBLISH
BEGIN:VEVENT
UID:69ecd2f3c85a6
DTSTAMP:20260425T144259
DTSTART:20260627
DTEND:20260628
TZID:UTC
LOCATION:
SUMMARY:Horsemen of Texas Challenge
DESCRIPTION:\nhttps://americanhorsemenchallenge.com/events/horsemen-of-texas-challenge-58/
URL:https://americanhorsemenchallenge.com/events/horsemen-of-texas-challenge-58/
END:VEVENT
END:VCALENDAR