BEGIN:VCALENDAR
VERSION:2.0
PRODID:-//eventon.com NONSGML v1.0//EN
CALSCALE:GREGORIAN
METHOD:PUBLISH
BEGIN:VEVENT
UID:69ecd366d030a
DTSTAMP:20260425T144454
DTSTART:20260531
DTEND:20260601
TZID:UTC
LOCATION:
SUMMARY:Horsemen of Texas Challenge
DESCRIPTION:\nhttps://americanhorsemenchallenge.com/events/horsemen-of-texas-challenge-57/
URL:https://americanhorsemenchallenge.com/events/horsemen-of-texas-challenge-57/
END:VEVENT
END:VCALENDAR