BEGIN:VCALENDAR
VERSION:2.0
PRODID:-//eventon.com NONSGML v1.0//EN
CALSCALE:GREGORIAN
METHOD:PUBLISH
BEGIN:VEVENT
UID:69ecd2af850ec
DTSTAMP:20260425T144151
DTSTART:20260530
DTEND:20260531
TZID:UTC
LOCATION:
SUMMARY:Horsemen of Texas Challenge
DESCRIPTION:\nhttps://americanhorsemenchallenge.com/events/horsemen-of-texas-challenge-56/
URL:https://americanhorsemenchallenge.com/events/horsemen-of-texas-challenge-56/
END:VEVENT
END:VCALENDAR