BEGIN:VCALENDAR
VERSION:2.0
PRODID:-//eventon.com NONSGML v1.0//EN
CALSCALE:GREGORIAN
METHOD:PUBLISH
BEGIN:VEVENT
UID:69ecd2526911b
DTSTAMP:20260425T144018
DTSTART:20260830
DTEND:20260831
TZID:UTC
LOCATION:
SUMMARY:Gulf Coast Horsemanship Association
DESCRIPTION:\nhttps://americanhorsemenchallenge.com/events/gulf-coast-horsemanship-association-28/
URL:https://americanhorsemenchallenge.com/events/gulf-coast-horsemanship-association-28/
END:VEVENT
END:VCALENDAR