BEGIN:VCALENDAR
VERSION:2.0
PRODID:-//eventon.com NONSGML v1.0//EN
CALSCALE:GREGORIAN
METHOD:PUBLISH
BEGIN:VEVENT
UID:69ecd2f3cf164
DTSTAMP:20260425T144259
DTSTART:20260829
DTEND:20260830
TZID:UTC
LOCATION:
SUMMARY:Gulf Coast Horsemanship Association
DESCRIPTION:\nhttps://americanhorsemenchallenge.com/events/gulf-coast-horsemanship-association-27/
URL:https://americanhorsemenchallenge.com/events/gulf-coast-horsemanship-association-27/
END:VEVENT
END:VCALENDAR