BEGIN:VCALENDAR
VERSION:2.0
PRODID:-//eventon.com NONSGML v1.0//EN
CALSCALE:GREGORIAN
METHOD:PUBLISH
BEGIN:VEVENT
UID:69ecd28f1eefb
DTSTAMP:20260425T144119
DTSTART:20260712
DTEND:20260713
TZID:UTC
LOCATION:
SUMMARY:Gulf Coast Horsemanship Association
DESCRIPTION:\nhttps://americanhorsemenchallenge.com/events/gulf-coast-horsemanship-association-26/
URL:https://americanhorsemenchallenge.com/events/gulf-coast-horsemanship-association-26/
END:VEVENT
END:VCALENDAR