BEGIN:VCALENDAR
VERSION:2.0
PRODID:-//eventon.com NONSGML v1.0//EN
CALSCALE:GREGORIAN
METHOD:PUBLISH
BEGIN:VEVENT
UID:69ecd3c471f4c
DTSTAMP:20260425T144628
DTSTART:20260711
DTEND:20260712
TZID:UTC
LOCATION:
SUMMARY:Gulf Coast Horsemanship Association
DESCRIPTION:\nhttps://americanhorsemenchallenge.com/events/gulf-coast-horsemanship-association-25/
URL:https://americanhorsemenchallenge.com/events/gulf-coast-horsemanship-association-25/
END:VEVENT
END:VCALENDAR