BEGIN:VCALENDAR
VERSION:2.0
PRODID:-//eventon.com NONSGML v1.0//EN
CALSCALE:GREGORIAN
METHOD:PUBLISH
BEGIN:VEVENT
UID:69ecd2af421a8
DTSTAMP:20260425T144151
DTSTART:20260614
DTEND:20260615
TZID:UTC
LOCATION:
SUMMARY:Gulf Coast Horsemanship Association
DESCRIPTION:\nhttps://americanhorsemenchallenge.com/events/gulf-coast-horsemanship-association-24/
URL:https://americanhorsemenchallenge.com/events/gulf-coast-horsemanship-association-24/
END:VEVENT
END:VCALENDAR