BEGIN:VCALENDAR
VERSION:2.0
PRODID:-//eventon.com NONSGML v1.0//EN
CALSCALE:GREGORIAN
METHOD:PUBLISH
BEGIN:VEVENT
UID:69ecd222bab50
DTSTAMP:20260425T143930
DTSTART:20260517
DTEND:20260518
TZID:UTC
LOCATION:
SUMMARY:Gulf Coast Horsemanship Association
DESCRIPTION:\nhttps://americanhorsemenchallenge.com/events/gulf-coast-horsemanship-association-22/
URL:https://americanhorsemenchallenge.com/events/gulf-coast-horsemanship-association-22/
END:VEVENT
END:VCALENDAR